BEGIN:VCALENDAR
VERSION:2.0
PRODID:-//Akademie für Dialog und Evangelisation - ECPv4.6.23//NONSGML v1.0//EN
CALSCALE:GREGORIAN
METHOD:PUBLISH
X-WR-CALNAME:Akademie für Dialog und Evangelisation
X-ORIGINAL-URL:https://akademie-wien.at
X-WR-CALDESC:Veranstaltungen für Akademie für Dialog und Evangelisation
BEGIN:VEVENT
DTSTART;TZID=Europe/Vienna:20251014T081500
DTEND;TZID=Europe/Vienna:20251014T090000
DTSTAMP:20260423T102040
CREATED:20251007T131636Z
LAST-MODIFIED:20251007T131636Z
UID:21294-1760429700-1760432400@akademie-wien.at
SUMMARY:Lobpreis
DESCRIPTION:Wir starten gemeinsam in den Tag\, mit Lobpreis\, ☕ &🥐. Um 8:15 Uhr in der Künstlerkapelle des Figlhauses! \n
URL:https://akademie-wien.at/event/lobpreis-2/2025-10-14/
LOCATION:Figlhaus – Akademie für Dialog und Evangelisation\, Schenkenstrasse 2\, Wien\, 1010\, Österreich
GEO:48.2106929;16.3638102
X-APPLE-STRUCTURED-LOCATION;VALUE=URI;X-ADDRESS=Figlhaus – Akademie für Dialog und Evangelisation Schenkenstrasse 2 Wien 1010 Österreich;X-APPLE-RADIUS=500;X-TITLE=Schenkenstrasse 2:geo:16.3638102,48.2106929
CATEGORIES:Spirit & Soul
ATTACH;FMTTYPE=image/png:https://akademie-wien.at/wp-content/uploads/2025/05/Programm-Kapelle-quer.png
ORGANIZER;CN="Akademie%20f%C3%BCr%20Dialog%20und%20Evangelisation":MAILTO:office@akademie-wien.at
END:VEVENT
BEGIN:VEVENT
DTSTART;TZID=Europe/Vienna:20251014T121500
DTEND;TZID=Europe/Vienna:20251014T130000
DTSTAMP:20260423T102040
CREATED:20251007T131935Z
LAST-MODIFIED:20251007T131935Z
UID:21306-1760444100-1760446800@akademie-wien.at
SUMMARY:Hl. Messe
DESCRIPTION:Hl. Messe in der Kapelle des Figlhauses \n
URL:https://akademie-wien.at/event/hl-messe-3/2025-10-14/
LOCATION:Figlhaus – Akademie für Dialog und Evangelisation\, Schenkenstrasse 2\, Wien\, 1010\, Österreich
GEO:48.2106929;16.3638102
X-APPLE-STRUCTURED-LOCATION;VALUE=URI;X-ADDRESS=Figlhaus – Akademie für Dialog und Evangelisation Schenkenstrasse 2 Wien 1010 Österreich;X-APPLE-RADIUS=500;X-TITLE=Schenkenstrasse 2:geo:16.3638102,48.2106929
CATEGORIES:Spirituelles
ATTACH;FMTTYPE=image/png:https://akademie-wien.at/wp-content/uploads/2025/05/Programm-Kapelle-quer.png
ORGANIZER;CN="Akademie%20f%C3%BCr%20Dialog%20und%20Evangelisation":MAILTO:office@akademie-wien.at
END:VEVENT
END:VCALENDAR