BEGIN:VCALENDAR
VERSION:2.0
PRODID:-//Akademie für Dialog und Evangelisation - ECPv4.6.23//NONSGML v1.0//EN
CALSCALE:GREGORIAN
METHOD:PUBLISH
X-WR-CALNAME:Akademie für Dialog und Evangelisation
X-ORIGINAL-URL:https://akademie-wien.at
X-WR-CALDESC:Veranstaltungen für Akademie für Dialog und Evangelisation
BEGIN:VEVENT
DTSTART;TZID=Europe/Vienna:20170612T200000
DTEND;TZID=Europe/Vienna:20170612T220000
DTSTAMP:20260422T140700
CREATED:20170515T152816Z
LAST-MODIFIED:20180306T114047Z
UID:5111-1497297600-1497304800@akademie-wien.at
SUMMARY:TALK „Bye Bye Partei - Europas 'Heilsbringer' auf dem Vormarsch" m. Busel\, Griss\, Lockl u. Kalina
DESCRIPTION:Das war unser TALK „Bye Bye Partei – Europas ‚Heilsbringer‘ auf dem Vormarsch“  #cifeeu #gudw\nmit den Podiumsgästen\n  \n \n  \n\nErhard Busek\, Vizekanzler a.D.\nIrmgard Griss\, ehem. Bundespräsidentsschaftskandidatin & ehem. Präsidentin des Obersten Gerichtshofs\nLothar Lockl\, Strategie- und Politikberater\, Wahlkampfmanager Alexander Van der Bellens bei der ö.-Bundespräsidentschaftswahl 2016\nJosef Kalina\, PR-Politikberater und Lobbyist\, ehem. Politiker\, Journalist\n\n  \n \n  \nFacebook | Flyer\n  \nHintergrund\nEuropas Parteilandschaft steht vor einem Umbruch. Egal ob in Frankreich\, Ungarn\, Österreich oder Großbritannien – die Führungspersönlichkeit eines Einzelnen löst die Gruppendynamik der Parteien ab. In Österreich soll die Liste der Regierungsmitglieder vermehrt aus Expertinnen und Experten bestehen\, so zumindest stellt sich der neue Hoffnungsträger der ÖVP Sebastian Kurz das vor. Die Idee ist nicht neu – Regierungen der Technokraten können einen Staat vor dem Zusammenbruch bewahren. Dafür kann beispielsweise die technokratische Regierung in Italien unter Mario Monti als Beweis dienen. Diese kleinen politischen Revolutionen bergen aber auch potentielle Gefahren. Nicht selten nehmen Politiker mit Personenkultstatus autoritäre Züge an. Gleichzeitig kann man sich die Frage nach der Zukunft unserer Demokratie stellen.Welche Position nehmen Parteien in diesem „neuen“ Demokratieverständnis ein? Wie lange kann der Glanz eines Emmanuel Macron\, Sebastian Kurz oder Jesse Klaver (Hoffnungsträger der niederländischen Grünen) halten\, bevor der politische Alltag das Bild eines Heilbringers durch jenes eines Scheinheiligen ersetzt? In unserem Talk möchten wir gemeinsam mit Ihnen den aktuellen Entwicklungen in der Parteienlandschaft Europas auf den Grund gehen. \n  \n \n \n \n \n\n \n \n \n\n \n\nMehr Fotos hier.\n  \nModeration\nDarius Pidun\, Politikwissenschaft-Student \n  \nHashtags\n#gottunddiewelt #gudw #cifeeu \n\nVeranstalter\n TALK-Team\, eine StudentInnen-Initiative der\nAkademie für Dialog und Evangelisation im Figlhaus Wien\nSchenkenstraße 2\, 1010 Wien\nakademie-wien.at \n\nMehr Infos über unsere TALK-Initiative \n  \n  \n  Norbert Oberndorfer Medien-Projektmanager\, Journalist Alle meine Blogbeiträge  
URL:https://akademie-wien.at/event/talk-bye-bye-partei-europas-heilsbringer-auf-dem-vormarsch/
LOCATION:Figlhaus – Akademie für Dialog und Evangelisation\, Schenkenstrasse 2\, Wien\, 1010\, Österreich
GEO:48.2106929;16.3638102
X-APPLE-STRUCTURED-LOCATION;VALUE=URI;X-ADDRESS=Figlhaus – Akademie für Dialog und Evangelisation Schenkenstrasse 2 Wien 1010 Österreich;X-APPLE-RADIUS=500;X-TITLE=Schenkenstrasse 2:geo:16.3638102,48.2106929
CATEGORIES:TALK
ATTACH;FMTTYPE=image/jpeg:https://akademie-wien.at/wp-content/uploads/2017/05/MG_0120-2-e1520250337191.jpg
ORGANIZER;CN="Akademie%20f%C3%BCr%20Dialog%20und%20Evangelisation":MAILTO:office@akademie-wien.at
END:VEVENT
END:VCALENDAR