BEGIN:VCALENDAR
VERSION:2.0
PRODID:-//Akademie für Dialog und Evangelisation - ECPv4.6.23//NONSGML v1.0//EN
CALSCALE:GREGORIAN
METHOD:PUBLISH
X-WR-CALNAME:Akademie für Dialog und Evangelisation
X-ORIGINAL-URL:https://akademie-wien.at
X-WR-CALDESC:Veranstaltungen für Akademie für Dialog und Evangelisation
BEGIN:VEVENT
DTSTART;TZID=Europe/Vienna:20180517T181500
DTEND;TZID=Europe/Vienna:20180517T193000
DTSTAMP:20260419T144715
CREATED:20180109T153741Z
LAST-MODIFIED:20180511T102858Z
UID:7173-1526580900-1526585400@akademie-wien.at
SUMMARY:SPIRITWorkout - "Ein blinder Marathonike erzählt: Viel Leid\, viel Glück\, ein Weg" mit Marco Blumenreich
DESCRIPTION: \n  \nSPIRITWorkout ist der wöchentliche Treffpunkt mit dem besonderen „Fitnessprogramm“ für Geist und Seele\nMenschen aus Politik\, Gesellschaft\, Wirtschaft und Religion erzählen uns ihre persönliche Story über Gott und die Welt. \nNo worries\, bei uns im SPIRITWorkout werden keine Gewichte gestemmt.\n  \n„Ein blinder Marathonike erzählt: Viel Leid\, viel Glück\, ein Weg“ mit Marco Blumenreich\nMarco Blumenreich hat eine Sehkraft von 0\,0015%\, ist also praktisch blind. Er läuft gerne Marathon\, fährt Ski und ist ausgebildeter Heilmasseur und Psychotherapeut. Sein bisheriges Leben war nicht immer leicht. Marco erzählt uns im kommenden #SPIRITWorkout über seinen Weg ins Glück: Am Donnerstag\, 17. Mai 2018\, ab 18.15 Uhr. Komm vorbei!. \n  \n \n  \nUnser ‚Fitnessprogramm-Timetable‘ im SPIRITWorkout\n\n18.15 Uhr: Coming in – Brezel – Suppe – Bier –  Plaudern in der Cafeteria\, 1. Stock\n18.45 Uhr: Eine persönliche Story über Gott und die Welt in unserer Figlhaus Kapelle\n19.00 Uhr: Dank\, Gebet u. Lieder zum Roundup\n19.30 Uhr: Finish\n\nAuf Euer Kommen freut sich das #SPIRITWorkout-Team im Figlhaus Wien! \nDonnerstags während der UNI-Semesterzeiten. Einstieg jederzeit möglich. \n#SPIRITWorkout \nKontakt: Michael.frey@akademie-wien.at \n  Norbert Oberndorfer Medien-Projektmanager\, Journalist Alle meine Blogbeiträge  
URL:https://akademie-wien.at/event/spiritworkout-ein-blinder-marathonike-erzaehlt-viel-leid-viel-glueck-ein-weg/
CATEGORIES:Spirituelles,SpiritWORKOUT
ATTACH;FMTTYPE=image/png:https://akademie-wien.at/wp-content/uploads/2017/09/SPIRITWORKOUT-FLYER-FRONT-e1515574524490.png
END:VEVENT
END:VCALENDAR