BEGIN:VCALENDAR
VERSION:2.0
PRODID:-//Akademie für Dialog und Evangelisation - ECPv4.6.23//NONSGML v1.0//EN
CALSCALE:GREGORIAN
METHOD:PUBLISH
X-WR-CALNAME:Akademie für Dialog und Evangelisation
X-ORIGINAL-URL:https://akademie-wien.at
X-WR-CALDESC:Veranstaltungen für Akademie für Dialog und Evangelisation
BEGIN:VEVENT
DTSTART;TZID=Europe/Vienna:20170126T181500
DTEND;TZID=Europe/Vienna:20170126T193000
DTSTAMP:20260419T124948
CREATED:20161010T095505Z
LAST-MODIFIED:20170124T162026Z
UID:1555-1485454500-1485459000@akademie-wien.at
SUMMARY:SpiritWORKOUT - "Vom indischen Ashram ins Wiener Figlhaus"
DESCRIPTION:SpiritWORKOUT –\n das ist der wöchentliche Treffpunkt mit dem besonderen Fitnessprogramm\nund News-Update im Figlhaus Wien für alle Interessierten und Teams. \nDiesmal: \nDie ganze Wahrheit über und von Norbert.\n„Vom indischen Ashram ins Wiener Figlhaus“ – unplugged und live\ndiesen Do\, 26.1.2016\, 18:15 Uhr im Figlhaus Wien – Herzliche Einladung! \nEinstieg um 18.15 Uhr oder um 18.45 Uhr möglich. \n\nSpiritWORKOUT-Programm und Ablauf: \n18.15 – 18.45 Uhr\nFitness für Geist und Seele mit Musik: „Vom indischen Ashram ins Wiener Figlhaus“ v. und m. Norbert \n18.45 – 19.30 Uhr\nUpdate mit News aus dem Figlhaus.\nAustausch und Chillen bei Snacks\,\nWein und Bier. \n  \n \n  \n  Norbert Oberndorfer Medien-Projektmanager\, Journalist Alle meine Blogbeiträge  
URL:https://akademie-wien.at/event/spiritworkout-2016-10-27-2017-01-26/
LOCATION:Figlhaus – Akademie für Dialog und Evangelisation\, Schenkenstrasse 2\, Wien\, 1010\, Österreich
GEO:48.2106929;16.3638102
X-APPLE-STRUCTURED-LOCATION;VALUE=URI;X-ADDRESS=Figlhaus – Akademie für Dialog und Evangelisation Schenkenstrasse 2 Wien 1010 Österreich;X-APPLE-RADIUS=500;X-TITLE=Schenkenstrasse 2:geo:16.3638102,48.2106929
CATEGORIES:Spirituelles,SpiritWORKOUT
ATTACH;FMTTYPE=image/jpeg:https://akademie-wien.at/wp-content/uploads/2016/10/175816_498014045591_8045276_o.jpg
ORGANIZER;CN="Akademie%20f%C3%BCr%20Dialog%20und%20Evangelisation":MAILTO:office@akademie-wien.at
END:VEVENT
END:VCALENDAR