BEGIN:VCALENDAR
VERSION:2.0
PRODID:-//Akademie für Dialog und Evangelisation - ECPv4.6.23//NONSGML v1.0//EN
CALSCALE:GREGORIAN
METHOD:PUBLISH
X-WR-CALNAME:Akademie für Dialog und Evangelisation
X-ORIGINAL-URL:https://akademie-wien.at
X-WR-CALDESC:Veranstaltungen für Akademie für Dialog und Evangelisation
BEGIN:VEVENT
DTSTART;TZID=Europe/Vienna:20170406T181500
DTEND;TZID=Europe/Vienna:20170406T193000
DTSTAMP:20260419T124844
CREATED:20161010T095505Z
LAST-MODIFIED:20170406T125909Z
UID:2819-1491502500-1491507000@akademie-wien.at
SUMMARY:SPIRITWorkout - "Ewiges Leben und ewige Liebe - ein rosaroter Schulmädchentraum?" - Maja Schanvosky
DESCRIPTION:SPIRITWorkout\nist der wöchentliche Treffpunkt mit dem besonderen „Fitnessprogramm“ für Geist und Seele: Menschen aus Politik\, Gesellschaft\, Wirtschaft und Religion erzählen uns ihre persönliche Story über Gott und die Welt. \nNo worries\, bei uns im SPIRITWorkout werden keine Gewichte gestemmt\, Squads\, Burpees\, oder Push-ups diktiert. Im Gegenteil\, es gibt immer einen warmen Snack mit Bier\, Wein und Soft drinks nach der Story zur Stärkung für unsere körperliche Fitness. \n  \n„Ewiges Leben und ewige Liebe – ein rosaroter Schulmädchentraum? Ein persönlicher Streifzug durch die Ostertage“ –\nMaja Schanovsky erzählt ihre ganz persönliche Geschichte.\n \n  \nUnser ‚Fitnessprogramm-Timetable‘ im SPIRITWorkout\n\n18.15 Uhr: Welcome\, Musik & Songs (Worship)\n18.30 Uhr: Testimonial – Die persönliche Story der eingeladenen Persönlichkeit über Gott und die Welt\n18.50 Uhr: Sharing – Kurzaustausch mit dem Nachbarn zum Testimonial\n19.00 Uhr: Brezel\, Bier und „Blaudern“ 😉\n19.30 Uhr: Finish und good-bye\n\nAuf Euer Kommen freut sich das Akademie-Team im Figlhaus Wien! \nJeden Donnerstag während der UNI-Semesterzeiten im Figlhaus Wien\, Schenkenstraße 2\, 1010 Wien\, 1. Stock | Kapelle und Caféteria – Beginn: 18:15 Uhr\, Ende: 19:30 Uhr\, Einstieg jederzeit möglich. \n#SPIRITWorkout \n  \n \n  Norbert Oberndorfer Medien-Projektmanager\, Journalist Alle meine Blogbeiträge  
URL:https://akademie-wien.at/event/spiritworkout-2-2017-04-06/
LOCATION:Figlhaus – Akademie für Dialog und Evangelisation\, Schenkenstrasse 2\, Wien\, 1010\, Österreich
GEO:48.2106929;16.3638102
X-APPLE-STRUCTURED-LOCATION;VALUE=URI;X-ADDRESS=Figlhaus – Akademie für Dialog und Evangelisation Schenkenstrasse 2 Wien 1010 Österreich;X-APPLE-RADIUS=500;X-TITLE=Schenkenstrasse 2:geo:16.3638102,48.2106929
CATEGORIES:Spirituelles,SpiritWORKOUT
ATTACH;FMTTYPE=image/jpeg:https://akademie-wien.at/wp-content/uploads/2016/10/Veranstaltungen_Titelbild_SpiritWORKOUT_1000x400.jpg
ORGANIZER;CN="Akademie%20f%C3%BCr%20Dialog%20und%20Evangelisation":MAILTO:office@akademie-wien.at
END:VEVENT
END:VCALENDAR