BEGIN:VCALENDAR
VERSION:2.0
PRODID:-//Akademie für Dialog und Evangelisation - ECPv4.6.23//NONSGML v1.0//EN
CALSCALE:GREGORIAN
METHOD:PUBLISH
X-WR-CALNAME:Akademie für Dialog und Evangelisation
X-ORIGINAL-URL:https://akademie-wien.at
X-WR-CALDESC:Veranstaltungen für Akademie für Dialog und Evangelisation
BEGIN:VEVENT
DTSTART;TZID=Europe/Vienna:20180606T200000
DTEND;TZID=Europe/Vienna:20180606T230000
DTSTAMP:20260419T165702
CREATED:20180528T095539Z
LAST-MODIFIED:20180530T101509Z
UID:9163-1528315200-1528326000@akademie-wien.at
SUMMARY:SPIRIT & SOUL - Der Frühlingsabend von Studierenden für Studierende: 'Ich'\, einfach unverbesserlich? Mut zum 'Ich'.
DESCRIPTION:Seit über zehn Jahren bietet die Akademie StudentInnen der aktuellen Lehrgänge die Plattform „Spirit & Soul“ als Veranstaltungsformat für ihre eigenen Themen über Gott und die Welt an. \nBei Live-Musik\, Cocktails und Buffet suchen die Studierenden den Dialog mit ihren Freundinnen\, KollegInnen und anderen Gästen.\nDie markanten Spannungsbögen der Themen ermöglichten tiefe Diskussionen mit Fokus auf philosophische Fragen zu „Leid“\, „Liebe“ und „Lebenssinn“. Kurze Filmszenen\, Gedichte und unterschiedliche Statements helfen die Fragestellungen zu beleuchten und viele Gedanken und Ideen zur diskutieren und auszutauschen. \nEin junges Team aus rund 25 Studierenden der drei Lehrgänge und Alumni der Akademie gestalten in diesem Jahr wieder einen Frühlingsabend. \nThema: „‚Ich‘\, einfach unverbesserlich? Mut zum ‚Ich‘.“\nWas bedeutet es\, zu sich selbst zu stehen? Wann ist man mutig genug\, um das eigene ‚Ich‘ zu zeigen? Wie kann man zu den eigenen Schwächen stehen? Wenn Algorithmen mir zeigen\, was ich kaufen soll bis hin zu welche Nachrichten wichtig für mich sind\, was bleibt dann eigentlich von meinem autonomen Selbst übrig? \nMehr Infos zum Thema und Team auf der Projektseite. \nDas Spirit&Soul-Team 2018 \n  Norbert Oberndorfer Medien-Projektmanager\, Journalist Alle meine Blogbeiträge  
URL:https://akademie-wien.at/event/spirit-soul-der-fruehlingsabend-mit-cocktails-statements-snacks-und-livemusik-von-students-fuer-students/
LOCATION:Figlhaus – Akademie für Dialog und Evangelisation\, Schenkenstrasse 2\, Wien\, 1010\, Österreich
GEO:48.2106929;16.3638102
X-APPLE-STRUCTURED-LOCATION;VALUE=URI;X-ADDRESS=Figlhaus – Akademie für Dialog und Evangelisation Schenkenstrasse 2 Wien 1010 Österreich;X-APPLE-RADIUS=500;X-TITLE=Schenkenstrasse 2:geo:16.3638102,48.2106929
CATEGORIES:Spirit & Soul
ATTACH;FMTTYPE=image/jpeg:https://akademie-wien.at/wp-content/uploads/2018/05/spirit-and-soul-2018-web-banner-e1526462907872.jpg
ORGANIZER;CN="Akademie%20f%C3%BCr%20Dialog%20und%20Evangelisation":MAILTO:office@akademie-wien.at
END:VEVENT
END:VCALENDAR