BEGIN:VCALENDAR
VERSION:2.0
PRODID:-//Akademie für Dialog und Evangelisation - ECPv4.6.23//NONSGML v1.0//EN
CALSCALE:GREGORIAN
METHOD:PUBLISH
X-WR-CALNAME:Akademie für Dialog und Evangelisation
X-ORIGINAL-URL:https://akademie-wien.at
X-WR-CALDESC:Veranstaltungen für Akademie für Dialog und Evangelisation
BEGIN:VEVENT
DTSTART;TZID=Europe/Vienna:20210507T090000
DTEND;TZID=Europe/Vienna:20210507T203000
DTSTAMP:20260419T131300
CREATED:20210413T101959Z
LAST-MODIFIED:20210413T110312Z
UID:16730-1620378000-1620419400@akademie-wien.at
SUMMARY:Politischer Realismus und europäischer Geist - Die Inspiration Robert Schumans in der Krise
DESCRIPTION:\nam 7. Mai 2021 an der Universität Wien\, Kleiner Festsaal\, Universitätsring 1\, und an der Akademie für Dialog und Evangelisation\, Schenkenstr. 2\, voraussichtlich virtuell oder hybrid \nDie Gründung der Europäischen Union ist untrennbar mit dem Namen Robert Schuman (1886-1963) verbunden. Er war es\, der als französischer Außenminister mit dem sogenannten „Schuman-Plan“ (9. Mai 1950) die politische Verantwortung für die Gründung der Europäischen Gemeinschaft für Kohle und Stahl übernahm – und so einen Grundstein für die Europäischen Ideen von heute legte. \nWie können die Motivation und Ideen von Schuman unsere heutigen Herausforderungen in Gesellschaft und Politik lösen helfen? \nDas diskutieren Referentinnen und Referenten der Geschichtswissenschaft\, Politikwissenschaft\, Rechtswissenschaft und Theologie beim Studientag am 7. Mai 2021. Sie fokussieren dabei die Frage\, wie persönliche Ideale in politischen Handlungen Realität werden können und erklären den Einfluss von Philosophie und christlicher Grundhaltung auf das Denken Schumans. \nDer Studientag ist eine Kooperation des Instituts für Historische Theologie\, Fachbereich Theologie der Spiritualität in Zusammenarbeit mit der Akademie für Dialog und Evangelisation und dem Centre international de formation européenne (CIFE). \nDie Veranstaltung ist gleichzeitig Teil des EU-Lehrgangs „Neuer Schwung für Europa“ des CIFE. \n\n\n\nReferentinnen und Referenten:\n\nMargriet Krijtenburg\, Universitätsdozentin an der Universität Den Haag\nHartmut Marhold\, ehem. Generaldirektor des CIFE / Honorarprofessor für Geschichtswissenschaften an der Universität zu Köln\nPatrick Müller\, Professor für Europäische Studien am Centre for European Integration Research der Universität Wien und an der Diplomatischen Akademie Wien\nPascale Joannin\, Generaldirektorin der Fondation Robert Schuman\, Paris\nIrena Lipowicz\, ehem. Botschafterin Polens in Österreich\, Professorin für Verwaltungsrecht an der Kardinal-Stefan-Wyszyński-Universität\, Warschau\nCesare Zucconi\, Historiker and Politikwissenschaftler an der Universität La Sapienza\, Generalsekretär der Gemeinschaft Sant’Egidio\, Rom\nPeter Becker\, Universitätsassistent an der Katholisch-Theologischen Fakultät der Universität Wien\n\n\n\nZum Programm\nZur Anmeldung\nStephanie Kappaurer  Alle meine Blogbeiträge  
URL:https://akademie-wien.at/event/politischer-realismus-und-europaeischer-geist-die-inspiration-robert-schumans-in-der-krise/
LOCATION:Online
CATEGORIES:Lehrgang / Kurs / Seminar
ATTACH;FMTTYPE=image/png:https://akademie-wien.at/wp-content/uploads/2021/04/Plakat-Schuman-1.png
ORGANIZER;CN="Akademie%20f%C3%BCr%20Dialog%20und%20Evangelisation":MAILTO:office@akademie-wien.at
END:VEVENT
END:VCALENDAR