BEGIN:VCALENDAR
VERSION:2.0
PRODID:-//Akademie für Dialog und Evangelisation - ECPv4.6.23//NONSGML v1.0//EN
CALSCALE:GREGORIAN
METHOD:PUBLISH
X-WR-CALNAME:Akademie für Dialog und Evangelisation
X-ORIGINAL-URL:https://akademie-wien.at
X-WR-CALDESC:Veranstaltungen für Akademie für Dialog und Evangelisation
BEGIN:VEVENT
DTSTART;VALUE=DATE:20200117
DTEND;VALUE=DATE:20200119
DTSTAMP:20260419T132523
CREATED:20190708T122225Z
LAST-MODIFIED:20190708T122225Z
UID:13641-1579219200-1579391999@akademie-wien.at
SUMMARY:Politisch.Neu.Denken
DESCRIPTION:\nPolitik gestalten im 21. Jahrhundert\n“POLITISCH.NEU.DENKEN” ist eine Werkstatt für junge PolitikerInnen aller Parteien und für engagierte\, junge Menschen aus der Zivilgesellschaft und will parteiübergreifend\, dialogorientiert und unkonventionell Brücken bauen. \nMehr Informationen über die Initiative findet ihr hier \nChristoph Neubauer  Alle meine Blogbeiträge  
URL:https://akademie-wien.at/event/politisch-neu-denken/
LOCATION:Figlhaus – Akademie für Dialog und Evangelisation\, Schenkenstrasse 2\, Wien\, 1010\, Österreich
GEO:48.2106929;16.3638102
X-APPLE-STRUCTURED-LOCATION;VALUE=URI;X-ADDRESS=Figlhaus – Akademie für Dialog und Evangelisation Schenkenstrasse 2 Wien 1010 Österreich;X-APPLE-RADIUS=500;X-TITLE=Schenkenstrasse 2:geo:16.3638102,48.2106929
CATEGORIES:Lehrgang / Kurs / Seminar
ATTACH;FMTTYPE=image/png:https://akademie-wien.at/wp-content/uploads/2019/07/PNDBanner-Web.png
ORGANIZER;CN="Akademie%20f%C3%BCr%20Dialog%20und%20Evangelisation":MAILTO:office@akademie-wien.at
END:VEVENT
END:VCALENDAR