BEGIN:VCALENDAR
VERSION:2.0
PRODID:-//Akademie für Dialog und Evangelisation - ECPv4.6.23//NONSGML v1.0//EN
CALSCALE:GREGORIAN
METHOD:PUBLISH
X-WR-CALNAME:Akademie für Dialog und Evangelisation
X-ORIGINAL-URL:https://akademie-wien.at
X-WR-CALDESC:Veranstaltungen für Akademie für Dialog und Evangelisation
BEGIN:VEVENT
DTSTART;TZID=Europe/Vienna:20211005T193000
DTEND;TZID=Europe/Vienna:20211005T230000
DTSTAMP:20260419T202055
CREATED:20210709T131220Z
LAST-MODIFIED:20220120T090717Z
UID:16963-1633462200-1633474800@akademie-wien.at
SUMMARY:Figlhaus Opening
DESCRIPTION:\nFiglhaus-Opening vom 5. Oktober 2021 \n„Warum lassen wir uns so auseinanderdividieren?“\n\n			\n				\n			\n			\n				\n			\n			\n				\n			\n			\n				\n			\n			\n				\n			\n			\n				\n			\n			\n				\n			\n			\n				\n			\n			\n				\n			\n			\n				\n			\n			\n				\n			\n			\n				\n			\n		\n\nJean-Luc Moens\, Nini Tsiklauri und Gabriel Toggenburg starten mit der Akademie für Dialog und Evangelisation  der Gemeinschaft Emmanuel ins neue Semester.\nDie drei Vertreterinnen und Vertreter aus EU\, Wissenschaft und Kirche diskutierten die zunehmende Polarisierung in unserer Gesellschaft. \n Jean-Luc Moens\, extra aus Belgien angereist und ehemaliger Leiter von „CHARIS“ im Vatikan\, eröffnete das Thema. „Division und Hass entstehen\, wenn Leute ihre Mitmenschen nicht kennen. Deswegen müssen wir einzelne Menschen\, einzelne Schicksale hinter der großen Masse kennenlernen.“ Nur so würde unsere Gesellschaft zusammenwachsen. \nNini Tsiklauri\, politische Aktivistin\, Autorin und Politikwissenschaftlerin schlug in dieselbe Kerbe. Als Mitbegründerin von „Pulse of Europe“\, einer überparteilichen und unabhängigen Bürgerinitiative\, erzählte sie von ihren Schwierigkeiten Menschen für eine gemeinsame Sache zu gewinnen. „Es wird zunehmend schwieriger\, vor allem junge Leute für ein starkes Europa zu mobilisieren. Deswegen müssen wir lernen\, dorthin zu gehen\, wo die Menschen leben. Christkindlmarktstände\, Konzerte und Cafés.“ \nGabriel Toggenburg\, Hon.-Prof. Europarecht Graz\, seit 2009 EU-Grundrechteagentur (FRA)\, führt diese Schwierigkeit unter anderem auf die Macht der Algorithmen  zurück. „Algorithmen bringen uns nicht zueinander\, sie spalten uns. Wir brauchen digitale Skills\, um uns wieder zu vereinen.“ Außerdem: Nicht die Menschen seien gespalten\, vielmehr würden schlechte Politik und eine Reihe von Fehlentwicklungen eine solche Spaltung begünstigen und bewirken. Deswegen brauche es zivilgesellschaftliche Projekte wie „Politisch.Neu.Denken“. Rund 120 Menschen\, ein bunter Mix aus verschiedenen Konfessionen\, politischen Ausrichtungen und Weltanschauungen\, konnte den Podiumsgästen lauschen. Moderiert wurde der Talk von Stephanie Kappaurer. \nMit dem Talk eröffnete die Akademie für Dialog und Evangelisation das neue Semester. Sowohl der EU-Lehrgang vom „Centre international de formation européenne“ (CIFE) als auch das Programm Mission Possible finden erneut statt und erfreuen sich dieses Semester großen Zulaufs. Auch das Thema Medien und Leadership-Weiterbildungen spielen wieder eine große Rolle. Die dieses Jahr neu gestartete Kommunikations-Schulung wird weiterentwickelt und im Sommersemester stattfinden. Jeden Donnerstag findet ein spiritueller Abend mit einer eigens im Figlhaus gegründeten Band statt. Das wichtigste Ziel der Akademie bleibt aber durch Kurse und Veranstaltungen\, den Dialog mit Menschen aller Weltanschauungen und Religionen zu fördern und zu führen. \n  \n\n			\n				\n			\n			\n				\n			\n			\n				\n			\n			\n				\n			\n			\n				\n			\n			\n				\n			\n		\n\nAlzbeta Brothankova  Alle meine Blogbeiträge  
URL:https://akademie-wien.at/event/opening-fest/
LOCATION:Figlhaus – Akademie für Dialog und Evangelisation\, Schenkenstrasse 2\, Wien\, 1010\, Österreich
GEO:48.2106929;16.3638102
X-APPLE-STRUCTURED-LOCATION;VALUE=URI;X-ADDRESS=Figlhaus – Akademie für Dialog und Evangelisation Schenkenstrasse 2 Wien 1010 Österreich;X-APPLE-RADIUS=500;X-TITLE=Schenkenstrasse 2:geo:16.3638102,48.2106929
ATTACH;FMTTYPE=image/png:https://akademie-wien.at/wp-content/uploads/2021/07/Webbanner-Opening-1.png
ORGANIZER;CN="Akademie%20f%C3%BCr%20Dialog%20und%20Evangelisation":MAILTO:office@akademie-wien.at
END:VEVENT
END:VCALENDAR