BEGIN:VCALENDAR
VERSION:2.0
PRODID:-//Akademie für Dialog und Evangelisation - ECPv4.6.23//NONSGML v1.0//EN
CALSCALE:GREGORIAN
METHOD:PUBLISH
X-WR-CALNAME:Akademie für Dialog und Evangelisation
X-ORIGINAL-URL:https://akademie-wien.at
X-WR-CALDESC:Veranstaltungen für Akademie für Dialog und Evangelisation
BEGIN:VEVENT
DTSTART;VALUE=DATE:20171010
DTEND;VALUE=DATE:20171012
DTSTAMP:20260419T131030
CREATED:20170918T151429Z
LAST-MODIFIED:20171003T132643Z
UID:5780-1507593600-1507766399@akademie-wien.at
SUMMARY:Pastoraltagung in Passau
DESCRIPTION:Hannah Moran  Alle meine Blogbeiträge  
URL:https://akademie-wien.at/event/missionsleiterschulung-in-passau/
LOCATION:Passau\, Passau\, Bayern\, Deutschland
GEO:48.5667364;13.4319466
CATEGORIES:Lehrgang / Kurs / Seminar
ATTACH;FMTTYPE=image/jpeg:https://akademie-wien.at/wp-content/uploads/2017/09/panorama-2634722-e1505984539320.jpg
ORGANIZER;CN="Akademie%20f%C3%BCr%20Dialog%20und%20Evangelisation":MAILTO:office@akademie-wien.at
END:VEVENT
END:VCALENDAR