BEGIN:VCALENDAR
VERSION:2.0
PRODID:-//Akademie für Dialog und Evangelisation - ECPv4.6.23//NONSGML v1.0//EN
CALSCALE:GREGORIAN
METHOD:PUBLISH
X-WR-CALNAME:Akademie für Dialog und Evangelisation
X-ORIGINAL-URL:https://akademie-wien.at
X-WR-CALDESC:Veranstaltungen für Akademie für Dialog und Evangelisation
BEGIN:VEVENT
DTSTART;TZID=Europe/Vienna:20200304T170000
DTEND;TZID=Europe/Vienna:20200304T210000
DTSTAMP:20260419T132700
CREATED:20190705T134350Z
LAST-MODIFIED:20200610T095432Z
UID:13325-1583341200-1583355600@akademie-wien.at
SUMMARY:MEDIEN-LEHRGANG 2020
DESCRIPTION: \n  \nInspirationen\, Werte und Interkulturalität für eine zeitgerechte Mediengestaltung.\nGeschichten wollen bewegen\, verändern und inspirieren (lat: einen Geist einhauchen). Als offenes Haus des Dialogs und als junge\, dynamische\, katholische Akademie im Herzen Wiens bewegen wir seit 2002 die österreichische Medienlandschaft mit unseren innovativen Dialogwerkstätten und Projekten. Das Besondere daran ist\, dass wir als Gastgeber unsere christlichen Inspirationsquellen in einen freien Dialog mit anderen Weltanschauungen bringen. Ob atheistisch\, agnostisch oder andersgläubig\, wir laden Sie ein\, mit uns im Zeichen des Dialogs die brennenden Herausforderungen und Fragen unserer Zeit anzugehen. Der Medien-Lehrgang ist eine gute Investition für mutige Medienmacher/innen und Mediennutzer/innen. \n  \nZertifikats-Lehrgang im Ausmaß von 4 + 1 (optionale dreitägige Studienreise nach Rom) ECTS-Punkten\nLehrgangsstart: März 2020\n Dauer: 1 Semester (7 bis 9 Termine) \n  \nAlle Infos und Daten zum Lehrgang finden Sie auf unserer Webpage. \n  \nChristoph Neubauer  Alle meine Blogbeiträge  
URL:https://akademie-wien.at/event/medien-lehrgang-2020/2020-03-04/
LOCATION:Figlhaus – Akademie für Dialog und Evangelisation\, Schenkenstrasse 2\, Wien\, 1010\, Österreich
GEO:48.2106929;16.3638102
X-APPLE-STRUCTURED-LOCATION;VALUE=URI;X-ADDRESS=Figlhaus – Akademie für Dialog und Evangelisation Schenkenstrasse 2 Wien 1010 Österreich;X-APPLE-RADIUS=500;X-TITLE=Schenkenstrasse 2:geo:16.3638102,48.2106929
CATEGORIES:Lehrgang / Kurs / Seminar
ATTACH;FMTTYPE=image/jpeg:https://akademie-wien.at/wp-content/uploads/2019/01/IMG_1277-e1548406713698.jpg
ORGANIZER;CN="Akademie%20f%C3%BCr%20Dialog%20und%20Evangelisation":MAILTO:office@akademie-wien.at
END:VEVENT
END:VCALENDAR