BEGIN:VCALENDAR
VERSION:2.0
PRODID:-//Akademie für Dialog und Evangelisation - ECPv4.6.23//NONSGML v1.0//EN
CALSCALE:GREGORIAN
METHOD:PUBLISH
X-WR-CALNAME:Akademie für Dialog und Evangelisation
X-ORIGINAL-URL:https://akademie-wien.at
X-WR-CALDESC:Veranstaltungen für Akademie für Dialog und Evangelisation
BEGIN:VEVENT
DTSTART;TZID=Europe/Vienna:20190108T200000
DTEND;TZID=Europe/Vienna:20190108T223000
DTSTAMP:20260419T114541
CREATED:20180705T132150Z
LAST-MODIFIED:20190114T095922Z
UID:10235-1546977600-1546986600@akademie-wien.at
SUMMARY:CIFE EU-TALK - "Europa vor der Zerreißprobe - was bringt uns wieder zusammen?" mit Misik\, Eberle und Vural im WUK
DESCRIPTION:CIFE EU-TALK „Europa vor der Zerreißprobe – was bringt uns wieder zusammen?“\nDas war unser TALK #gudw #gottunddiewelt\n \n  \nmit den Podiumsgästen:\n  \n\nDoraja Eberle\, Gründerin der humanitären Hilfsorganisation „Bauern helfen Bauern“\, ehem. Salzburger Landesrätin\nRobert Misik\, Journalist\, Sachbuchautor und Biograph des ehem. Bundeskanzlers Christian Kern\nÜmit Vural\, Präsident der Islamischen Glaubensgemeinschaft in Österreich (IGGÖ)\, Jurist\n\nFacebook | Flyer | OE1-Radiobeitrag „Religion Aktuell“ (9.1.2019) | Pressemeldung Kathpress (Udo Seelhofer)\n\n	\n			\n		\n	\n	\n	\n	\n		OE1-Religion_Aktuell_Beitrag (Maria Harmer_ORF) 9.JAN.2019	\n	\n	{"type":"audio"\,"tracklist":false\,"tracknumbers":true\,"images":false\,"artists":false\,"tracks":[{"src":"https:\/\/akademie-wien.at\/wp-content\/uploads\/2018\/07\/OE1-Religion_Aktuell_Beitrag-Maria-Harmer_ORF-9.JAN_.2019.mp3"\,"type":"audio\/mpeg"\,"title":"OE1-Religion_Aktuell_Beitrag (Maria Harmer_ORF) 9.JAN.2019"\,"caption":""\,"description":"\"OE1-Religion_Aktuell_Beitrag (Maria Harmer_ORF) 9.JAN.2019\". Genre: Blues."\,"meta":{"genre":"Blues"\,"length_formatted":"1:58"}\,"image":{"src":"https:\/\/akademie-wien.at\/wp-includes\/images\/media\/audio.png"\,"width":48\,"height":64}\,"thumb":{"src":"https:\/\/akademie-wien.at\/wp-includes\/images\/media\/audio.png"\,"width":48\,"height":64}}]}\n\n	\nAudio-Mitschnitt vom TALK\n \n  \nModeration\nStephanie Kappaurer\, Studentin aus dem Vorbereitungsteam \n  \nHintergrund\nWir leben derzeit in einem Europa\, das geprägt ist durch Abgrenzung. Es ist durchzogen von Gräben\, die unüberwindbar scheinen. Anstatt das zu suchen was uns verbindet\, wird danach gesucht\, was uns trennt. Statt miteinander zu reden\, reden wir über einander. Das historische Moment der Einigung scheint vergessen zu sein\, der Wille zum gemeinsamen Handeln schwindet. \nWir wollen mit Ihnen darüber diskutieren\, wie ein neuer europäischer Diskurs angestoßen werden kann\, gemeinsam gehandelt werden kann und Europa neu inspiriert werden kann. Kurzum: Was bringt uns zusammen? \n  \n \n \n \n \n \n \n \n \n \n  \nMehr Fotos finden Sie hier.\nMehr Infos über unsere TALK-Initiative \n  \nHashtags\n#gottunddiewelt #gudw \n  \nVeranstalter\nTALK-Team\, eine StudentInnen-Initiative der\nAkademie für Dialog und Evangelisation im Figlhaus Wien\nSchenkenstraße 2\, 1010 Wien\nakademie-wien.at\ntalk@akademie-wien.at \nClara Neubauer Social Media Managerin Alle meine Blogbeiträge  
URL:https://akademie-wien.at/event/eu-talk/
LOCATION:WUK – Werkstätten- und Kulturhaus\, Währinger Str. 59\,\, Wien\, 1090\, Österreich
GEO:48.2232818;16.3514158
X-APPLE-STRUCTURED-LOCATION;VALUE=URI;X-ADDRESS=WUK – Werkstätten- und Kulturhaus Währinger Str. 59 Wien 1090 Österreich;X-APPLE-RADIUS=500;X-TITLE=Währinger Str. 59\,:geo:16.3514158,48.2232818
CATEGORIES:TALK
ATTACH;FMTTYPE=image/jpeg:https://akademie-wien.at/wp-content/uploads/2018/07/201901083087.jpg
ORGANIZER;CN="Akademie%20f%C3%BCr%20Dialog%20und%20Evangelisation":MAILTO:office@akademie-wien.at
END:VEVENT
END:VCALENDAR