BEGIN:VCALENDAR
VERSION:2.0
PRODID:-//Akademie für Dialog und Evangelisation - ECPv4.6.23//NONSGML v1.0//EN
CALSCALE:GREGORIAN
METHOD:PUBLISH
X-WR-CALNAME:Akademie für Dialog und Evangelisation
X-ORIGINAL-URL:https://akademie-wien.at
X-WR-CALDESC:Veranstaltungen für Akademie für Dialog und Evangelisation
BEGIN:VEVENT
DTSTART;TZID=Europe/Vienna:20171107T173000
DTEND;TZID=Europe/Vienna:20171107T193000
DTSTAMP:20260419T133007
CREATED:20170918T125254Z
LAST-MODIFIED:20171002T140407Z
UID:5748-1510075800-1510083000@akademie-wien.at
SUMMARY:CIFE EU-Lehrgang "Neuer Schwung für Europa" 2017/18 - Lehrgangsstart
DESCRIPTION:CIFE-EU-LEHRGANG – NEUER SCHWUNG FÜR EUROPA\nZertifikats-Lehrgang im Ausmaß von 7 ECTS-Punkten\nNächster Lehrgangsstart: 7. November 2017\nDauer: 2 Semester \nDie Lehrgangsveranstaltungen finden in den Abendstunden statt (Dienstags\, 17.30-19.30). Bei regelmäßigem Besuch aller Lehrveranstaltungen (mind. 80%) wird nach zwei Semester ein Teilnahmezertifikat ausgestellt. Neben den wöchentlichen ExpertInnenvorträgen\nermöglichen Gruppenarbeiten eine vertiefe inhaltliche Auseinandersetzung mit dem im Lehrgang vermittelten Fachwissen. Nach einer fakultativen und erfolgreichen Abschlussprüfung wird ein Zeugnis des CIFE (Internationales Zentrum für europäische Studien\, Nizza/Berlin) ausgestellt. \nDem erfolgreichen Abschluss inkl. Abschlussprüfungen und einer erfolgreichen Teilnahme an den beiden EU-Studienreisen entsprechen sechs anrechenbare Credit-Points gemäß Bologna-Kriterien. \nMehr Infos zum Lehrgang finden Sie hier. \n  \n \n  Norbert Oberndorfer Medien-Projektmanager\, Journalist Alle meine Blogbeiträge  
URL:https://akademie-wien.at/event/cife-eu-lehrgang-neuer-schwung-fuer-europa-201718-lehrgangstermin/2017-11-07/
LOCATION:Figlhaus – Akademie für Dialog und Evangelisation\, Schenkenstrasse 2\, Wien\, 1010\, Österreich
GEO:48.2106929;16.3638102
X-APPLE-STRUCTURED-LOCATION;VALUE=URI;X-ADDRESS=Figlhaus – Akademie für Dialog und Evangelisation Schenkenstrasse 2 Wien 1010 Österreich;X-APPLE-RADIUS=500;X-TITLE=Schenkenstrasse 2:geo:16.3638102,48.2106929
CATEGORIES:Lehrgang / Kurs / Seminar
ATTACH;FMTTYPE=image/jpeg:https://akademie-wien.at/wp-content/uploads/2017/09/20160224-IMG_0409-e1506948196878.jpg
ORGANIZER;CN="Akademie%20f%C3%BCr%20Dialog%20und%20Evangelisation":MAILTO:office@akademie-wien.at
END:VEVENT
END:VCALENDAR