BEGIN:VCALENDAR
VERSION:2.0
PRODID:-//Akademie für Dialog und Evangelisation - ECPv4.6.23//NONSGML v1.0//EN
CALSCALE:GREGORIAN
METHOD:PUBLISH
X-WR-CALNAME:Akademie für Dialog und Evangelisation
X-ORIGINAL-URL:https://akademie-wien.at
X-WR-CALDESC:Veranstaltungen für Akademie für Dialog und Evangelisation
BEGIN:VEVENT
DTSTART;TZID=Europe/Vienna:20170110T173000
DTEND;TZID=Europe/Vienna:20170110T193000
DTSTAMP:20260419T125215
CREATED:20161012T095537Z
LAST-MODIFIED:20161012T115208Z
UID:1662-1484069400-1484076600@akademie-wien.at
SUMMARY:CIFE EU-Lehrgang | "Neuer Schwung für Europa"
DESCRIPTION:Regulärer Lehrgangstermin für alle angemeldeten LehrgangsteilnehmerInnen im Jg 2016/17. \nKontakt: Darius Pidun \n  Norbert Oberndorfer Medien-Projektmanager\, Journalist Alle meine Blogbeiträge  
URL:https://akademie-wien.at/event/cife-eu-lehrgang-neuer-schwung-fuer-europa-2/2017-01-10/
LOCATION:Figlhaus – Akademie für Dialog und Evangelisation\, Schenkenstrasse 2\, Wien\, 1010\, Österreich
GEO:48.2106929;16.3638102
X-APPLE-STRUCTURED-LOCATION;VALUE=URI;X-ADDRESS=Figlhaus – Akademie für Dialog und Evangelisation Schenkenstrasse 2 Wien 1010 Österreich;X-APPLE-RADIUS=500;X-TITLE=Schenkenstrasse 2:geo:16.3638102,48.2106929
CATEGORIES:Lehrgang / Kurs / Seminar
ATTACH;FMTTYPE=image/jpeg:https://akademie-wien.at/wp-content/uploads/2016/06/EU-Unsere-Brüssel-Studienreise-Gruppe-2016.jpg
ORGANIZER;CN="Akademie%20f%C3%BCr%20Dialog%20und%20Evangelisation":MAILTO:office@akademie-wien.at
END:VEVENT
END:VCALENDAR