BEGIN:VCALENDAR
VERSION:2.0
PRODID:-//Akademie für Dialog und Evangelisation - ECPv4.6.23//NONSGML v1.0//EN
CALSCALE:GREGORIAN
METHOD:PUBLISH
X-WR-CALNAME:Akademie für Dialog und Evangelisation
X-ORIGINAL-URL:https://akademie-wien.at
X-WR-CALDESC:Veranstaltungen für Akademie für Dialog und Evangelisation
BEGIN:VEVENT
DTSTART;TZID=Europe/Vienna:20161207T053000
DTEND;TZID=Europe/Vienna:20161209T220000
DTSTAMP:20260424T033409
CREATED:20161012T133132Z
LAST-MODIFIED:20161012T133144Z
UID:1756-1481088600-1481320800@akademie-wien.at
SUMMARY:CIFE EU-Lehrgang 3-tägige Studienreise nach Brüssel
DESCRIPTION:3-tägige Studienreise nach Brüssel im Rahmen des CIFE EU-Lehrgangs Jg 2016/17 für alle angemeldeten LehrgangsteilnehmerInnen. \nDie Studienreise ist optional und mit Zusatzkosten verbunden. Verbindliche Anmeldung über ein Anmeldeformular\, das im Lehrgang ausgegeben wird. \nDie Studienreise hat einen Wert von 1 ECTS. \nProgramm und Details der Studienreise im CIFE EU-Lehrgang \nKontakt: Darius Pidun \n  Norbert Oberndorfer Medien-Projektmanager\, Journalist Alle meine Blogbeiträge  
URL:https://akademie-wien.at/event/cife-eu-lehrgang-3-taegige-studienreise-nach-bruessel/
LOCATION:Brüssel\, Belgien
GEO:50.503887;4.469936
CATEGORIES:Lehrgang / Kurs / Seminar
ATTACH;FMTTYPE=image/jpeg:https://akademie-wien.at/wp-content/uploads/2016/10/Veranstaltungen_Titelbild_Atomium-Brüssel.jpg
ORGANIZER;CN="CIFE%20%28Centre%20international%20de%20formation%20europ%C3%A9enne%29":MAILTO:cife-berlin@cife.eu
END:VEVENT
END:VCALENDAR