BEGIN:VCALENDAR
VERSION:2.0
PRODID:-//Akademie für Dialog und Evangelisation - ECPv4.6.23//NONSGML v1.0//EN
CALSCALE:GREGORIAN
METHOD:PUBLISH
X-WR-CALNAME:Akademie für Dialog und Evangelisation
X-ORIGINAL-URL:https://akademie-wien.at
X-WR-CALDESC:Veranstaltungen für Akademie für Dialog und Evangelisation
BEGIN:VEVENT
DTSTART;TZID=Europe/Vienna:20191212T181500
DTEND;TZID=Europe/Vienna:20191212T220000
DTSTAMP:20260419T202035
CREATED:20191210T113037Z
LAST-MODIFIED:20191210T114219Z
UID:14087-1576174500-1576188000@akademie-wien.at
SUMMARY:Advent-Special
DESCRIPTION: \nTherese Marsoner  Alle meine Blogbeiträge  
URL:https://akademie-wien.at/event/advent-special/
LOCATION:Figlhaus – Akademie für Dialog und Evangelisation\, Schenkenstrasse 2\, Wien\, 1010\, Österreich
GEO:48.2106929;16.3638102
X-APPLE-STRUCTURED-LOCATION;VALUE=URI;X-ADDRESS=Figlhaus – Akademie für Dialog und Evangelisation Schenkenstrasse 2 Wien 1010 Österreich;X-APPLE-RADIUS=500;X-TITLE=Schenkenstrasse 2:geo:16.3638102,48.2106929
ORGANIZER;CN="Akademie%20f%C3%BCr%20Dialog%20und%20Evangelisation":MAILTO:office@akademie-wien.at
END:VEVENT
END:VCALENDAR